BEGIN:VCALENDAR
PRODID:-//eluceo/ical//2.0/EN
VERSION:2.0
CALSCALE:GREGORIAN
BEGIN:VEVENT
UID:b973f455acfec69277fc1737d08422a6
DTSTAMP:20260421T075831Z
SUMMARY:Aerztegesellschaft Kt. Zürich
DESCRIPTION:Orador(es): Dr. Urs Stoffel
URL:https://rczu.ch/es/agenda/show/28134
DTSTART;TZID=Europe/Zurich:20130108T121500
DTEND;TZID=Europe/Zurich:20130108T121500
LOCATION:zum Goldenen Kopf
CATEGORIES:Rotary
END:VEVENT
BEGIN:VTIMEZONE
TZID:Europe/Zurich
BEGIN:STANDARD
DTSTART:20130108T121500
TZNAME:CET
TZOFFSETTO:+0100
TZOFFSETFROM:+0100
END:STANDARD
END:VTIMEZONE
END:VCALENDAR
