BEGIN:VCALENDAR
PRODID:-//eluceo/ical//2.0/EN
VERSION:2.0
CALSCALE:GREGORIAN
BEGIN:VEVENT
UID:745e51d0e043d5936d69f77def003e5d
DTSTAMP:20260421T082702Z
SUMMARY:kein Lunch
DESCRIPTION:
URL:https://rczu.ch/es/agenda/show/27562
DTSTART;TZID=Europe/Zurich:20121225T000000
DTEND;TZID=Europe/Zurich:20121225T000000
LOCATION:zum Goldenen Kopf
CATEGORIES:Rotary
END:VEVENT
BEGIN:VTIMEZONE
TZID:Europe/Zurich
BEGIN:STANDARD
DTSTART:20121225T000000
TZNAME:CET
TZOFFSETTO:+0100
TZOFFSETFROM:+0100
END:STANDARD
END:VTIMEZONE
END:VCALENDAR
