BEGIN:VCALENDAR
PRODID:-//eluceo/ical//2.0/EN
VERSION:2.0
CALSCALE:GREGORIAN
BEGIN:VEVENT
UID:6daf43ed9437239b169ceb72d94a0ba4
DTSTAMP:20260421T092134Z
SUMMARY:Schweizer Berghilfe
DESCRIPTION:Orador(es): Frau Regula Straub
URL:https://rczu.ch/es/agenda/show/26652
DTSTART;TZID=Europe/Zurich:20121009T121500
DTEND;TZID=Europe/Zurich:20121009T121500
LOCATION:zum Goldenen Kopf
CATEGORIES:Rotary
END:VEVENT
BEGIN:VTIMEZONE
TZID:Europe/Zurich
BEGIN:DAYLIGHT
DTSTART:20121009T121500
TZNAME:CEST
TZOFFSETTO:+0200
TZOFFSETFROM:+0200
END:DAYLIGHT
END:VTIMEZONE
END:VCALENDAR
