BEGIN:VCALENDAR
PRODID:-//eluceo/ical//2.0/EN
VERSION:2.0
CALSCALE:GREGORIAN
BEGIN:VEVENT
UID:c4acb3b1c2324d01e0e69585efe38831
DTSTAMP:20260419T133418Z
SUMMARY:Kameradschaft Eröffnung durch die Präsidentin (Anmeldung notwendi
 g)
DESCRIPTION:Menú: Wegen der aktuellen Coronaproblematik ist die Platzzahl 
 beschränkt und für Clubmitglieder reserviert. Eine Lunchteilnahme ist nu
 r auf Voranmeldung möglich.\n\nGäste\, welche beabsichtigen am Lunch tei
 lzunehmen\, werden gebeten im Restaurant zum Goldenen Kopf telefonisch (04
 4 872 46 46) sich am Morgen des Lunchdatums zu informeiren\, ob noch Kapaz
 itäten bestehen\, um sich  dann telefonisch anzumelden.\n\nBesten Dank f
 ür das Verständnis  \nOrador(es): Rot Brigitte Muff
URL:https://rczu.ch/es/agenda/show/115173
DTSTART;TZID=Europe/Zurich:20200707T121500
DTEND;TZID=Europe/Zurich:20200707T140000
LOCATION:zum Goldenen Kopf Bülach
CATEGORIES:Rotary
END:VEVENT
BEGIN:VTIMEZONE
TZID:Europe/Zurich
BEGIN:DAYLIGHT
DTSTART:20200707T121500
TZNAME:CEST
TZOFFSETTO:+0200
TZOFFSETFROM:+0200
END:DAYLIGHT
END:VTIMEZONE
END:VCALENDAR
