BEGIN:VCALENDAR
PRODID:-//eluceo/ical//2.0/EN
VERSION:2.0
CALSCALE:GREGORIAN
BEGIN:VEVENT
UID:3681fac64fa103e71e7113e24aaea61e
DTSTAMP:20260419T133258Z
SUMMARY:Zmorge (unter Covid Auflagen)
DESCRIPTION:
URL:https://rczu.ch/es/agenda/show/111714
DTSTART;TZID=Europe/Zurich:20200529T070000
DTEND;TZID=Europe/Zurich:20200529T080000
LOCATION:Café Konditorei Klaus Bülach
CATEGORIES:Rotary
END:VEVENT
BEGIN:VTIMEZONE
TZID:Europe/Zurich
BEGIN:DAYLIGHT
DTSTART:20200529T070000
TZNAME:CEST
TZOFFSETTO:+0200
TZOFFSETFROM:+0200
END:DAYLIGHT
END:VTIMEZONE
END:VCALENDAR
