BEGIN:VCALENDAR
PRODID:-//eluceo/ical//2.0/EN
VERSION:2.0
CALSCALE:GREGORIAN
BEGIN:VEVENT
UID:01a3880e30a8295f6e50f052e9f847cf
DTSTAMP:20260419T132247Z
SUMMARY:Trauerfeier für Thedy Spaltenstein
DESCRIPTION:
URL:https://rczu.ch/es/agenda/show/110644
DTSTART;TZID=Europe/Zurich:20200213T150000
DTEND;TZID=Europe/Zurich:20200213T170000
LOCATION:Fraumünsterkirche Zürich
CATEGORIES:Rotary
END:VEVENT
BEGIN:VTIMEZONE
TZID:Europe/Zurich
BEGIN:STANDARD
DTSTART:20200213T150000
TZNAME:CET
TZOFFSETTO:+0100
TZOFFSETFROM:+0100
END:STANDARD
END:VTIMEZONE
END:VCALENDAR
