BEGIN:VCALENDAR
PRODID:-//eluceo/ical//2.0/EN
VERSION:2.0
CALSCALE:GREGORIAN
BEGIN:VEVENT
UID:f0b702e94b7e3b18d61e311fe1bfd682
DTSTAMP:20260421T075613Z
SUMMARY:Blockchain II
DESCRIPTION:Orador(es): Rot. Roger Baltensweiler
URL:https://rczu.ch/es/agenda/show/109622
DTSTART;TZID=Europe/Zurich:20200225T121500
DTEND;TZID=Europe/Zurich:20200225T140000
LOCATION:zum Goldenen Kopf Bülach
CATEGORIES:Rotary
END:VEVENT
BEGIN:VTIMEZONE
TZID:Europe/Zurich
BEGIN:STANDARD
DTSTART:20200225T121500
TZNAME:CET
TZOFFSETTO:+0100
TZOFFSETFROM:+0100
END:STANDARD
END:VTIMEZONE
END:VCALENDAR
