BEGIN:VCALENDAR
PRODID:-//eluceo/ical//2.0/EN
VERSION:2.0
CALSCALE:GREGORIAN
BEGIN:VEVENT
UID:a19e003a05781f66e6a385bce2e6025d
DTSTAMP:20260422T003855Z
SUMMARY:The study trip to Morocco will take place from 22 to 28 April 2024
DESCRIPTION:Speaker(s): 
URL:https://icc-morocco.polaris.rotary.ch/en/agenda/show/168645
DTSTART;TZID=Europe/Zurich:20240422T000000
DTEND;TZID=Europe/Zurich:20240428T230000
LOCATION:Studienreise nach Marokko
CATEGORIES:Rotary
END:VEVENT
BEGIN:VTIMEZONE
TZID:Europe/Zurich
BEGIN:DAYLIGHT
DTSTART:20240422T000000
TZNAME:CEST
TZOFFSETTO:+0200
TZOFFSETFROM:+0200
END:DAYLIGHT
END:VTIMEZONE
END:VCALENDAR
