BEGIN:VCALENDAR
PRODID:-//eluceo/ical//2.0/EN
VERSION:2.0
CALSCALE:GREGORIAN
BEGIN:VEVENT
UID:1425d90cd4bcb6010c761ddc956ec83e
DTSTAMP:20260422T003544Z
SUMMARY:ZOOM Meeting
DESCRIPTION:
URL:https://icc-morocco.polaris.rotary.ch/en/agenda/show/142533
DTSTART;TZID=Europe/Zurich:20220704T190000
DTEND;TZID=Europe/Zurich:20220704T203000
LOCATION:ZOOM
CATEGORIES:Rotary
END:VEVENT
BEGIN:VTIMEZONE
TZID:Europe/Zurich
BEGIN:DAYLIGHT
DTSTART:20220704T190000
TZNAME:CEST
TZOFFSETTO:+0200
TZOFFSETFROM:+0200
END:DAYLIGHT
END:VTIMEZONE
END:VCALENDAR
